BEGIN:VCALENDAR
VERSION:2.0
PRODID:-//Homemaking Jewels - ECPv6.15.20//NONSGML v1.0//EN
CALSCALE:GREGORIAN
METHOD:PUBLISH
X-WR-CALNAME:Homemaking Jewels
X-ORIGINAL-URL:https://www.homemakingjewels.com
X-WR-CALDESC:Events for Homemaking Jewels
REFRESH-INTERVAL;VALUE=DURATION:PT1H
X-Robots-Tag:noindex
X-PUBLISHED-TTL:PT1H
BEGIN:VTIMEZONE
TZID:America/Halifax
BEGIN:DAYLIGHT
TZOFFSETFROM:-0400
TZOFFSETTO:-0300
TZNAME:ADT
DTSTART:20170312T060000
END:DAYLIGHT
BEGIN:STANDARD
TZOFFSETFROM:-0300
TZOFFSETTO:-0400
TZNAME:AST
DTSTART:20171105T050000
END:STANDARD
BEGIN:DAYLIGHT
TZOFFSETFROM:-0400
TZOFFSETTO:-0300
TZNAME:ADT
DTSTART:20180311T060000
END:DAYLIGHT
BEGIN:STANDARD
TZOFFSETFROM:-0300
TZOFFSETTO:-0400
TZNAME:AST
DTSTART:20181104T050000
END:STANDARD
BEGIN:DAYLIGHT
TZOFFSETFROM:-0400
TZOFFSETTO:-0300
TZNAME:ADT
DTSTART:20190310T060000
END:DAYLIGHT
BEGIN:STANDARD
TZOFFSETFROM:-0300
TZOFFSETTO:-0400
TZNAME:AST
DTSTART:20191103T050000
END:STANDARD
BEGIN:DAYLIGHT
TZOFFSETFROM:-0400
TZOFFSETTO:-0300
TZNAME:ADT
DTSTART:20200308T060000
END:DAYLIGHT
BEGIN:STANDARD
TZOFFSETFROM:-0300
TZOFFSETTO:-0400
TZNAME:AST
DTSTART:20201101T050000
END:STANDARD
END:VTIMEZONE
BEGIN:VEVENT
DTSTART;TZID=America/Halifax:20190612T183000
DTEND;TZID=America/Halifax:20190612T203000
DTSTAMP:20260423T151915
CREATED:20190607T233309Z
LAST-MODIFIED:20190607T233309Z
UID:1782-1560364200-1560371400@www.homemakingjewels.com
SUMMARY:Salsa and Preserving Workshop
DESCRIPTION:Join me\, Julia Stewart\, as I demonstrate how to make salsa and preserve it using the hot water bath method. \nDate: Wednesday\, June 12\nTime: 6:30 – 8:30 pm\nPlace: 493 Route 103\, Baltic\, PE \nTo register\, call Julia at 902-836-4613 \nShare this:\n				Print (Opens in new window)\n				Print\n			Share on Tumblr\n				Share on Reddit (Opens in new window)\n				Reddit\n			\n				Email a link to a friend (Opens in new window)\n				Email\n			PostLike this:Like Loading...
URL:https://www.homemakingjewels.com/event/salsa-and-preserving-workshop/
LOCATION:Homemaking Jewels Studio\, 493 ROUTE 103\, KENSINGTON\, PE\, C0B 1M0\, Canada
ATTACH;FMTTYPE=image/jpeg:https://www.homemakingjewels.com/wp-content/uploads/2019/06/homemaking-217-e1559950266732.jpg
ORGANIZER;CN="Julia Stewart":MAILTO:juliajane75@gmail.com
END:VEVENT
BEGIN:VEVENT
DTSTART;TZID=America/Halifax:20190610T140000
DTEND;TZID=America/Halifax:20190610T160000
DTSTAMP:20260423T151915
CREATED:20190607T233715Z
LAST-MODIFIED:20190607T233715Z
UID:1785-1560175200-1560182400@www.homemakingjewels.com
SUMMARY:Gardening Workshop
DESCRIPTION:I think it is finally warm enough to plant my garden plants! \nMonday afternoon I will be planting tomatoes\, peppers\, cabbages and marigolds. \nJoin me for this workshop as I explain my gardening techniques and companion planting and how it affects the layout of my garden. \nPlease call Julia at 902-836-4613 if you plan to attend. \nDate: Monday\, June 10\nTime: 2 – 4 pm\nPlace: 493 Route 103\, Baltic\, PE \nShare this:\n				Print (Opens in new window)\n				Print\n			Share on Tumblr\n				Share on Reddit (Opens in new window)\n				Reddit\n			\n				Email a link to a friend (Opens in new window)\n				Email\n			PostLike this:Like Loading...
URL:https://www.homemakingjewels.com/event/gardening-workshop/
LOCATION:Homemaking Jewels Studio\, 493 ROUTE 103\, KENSINGTON\, PE\, C0B 1M0\, Canada
CATEGORIES:Gardening,Workshops
ATTACH;FMTTYPE=image/jpeg:https://www.homemakingjewels.com/wp-content/uploads/2019/05/IMG_20160726_193323.jpg
ORGANIZER;CN="Julia Stewart":MAILTO:juliajane75@gmail.com
END:VEVENT
BEGIN:VEVENT
DTSTART;TZID=America/Halifax:20181202T140000
DTEND;TZID=America/Halifax:20181202T160000
DTSTAMP:20260423T151915
CREATED:20181108T185107Z
LAST-MODIFIED:20181108T185107Z
UID:1340-1543759200-1543766400@www.homemakingjewels.com
SUMMARY:Traditional Christmas Wreath Workshop
DESCRIPTION:Add a sense of tradition and Christmas welcome to your home with a handmade Christmas wreath. \nAt this workshop Julia will show you how to make a traditional Christmas wreath while you enjoy hot apple cider and cookies. Then you will get to make your own wreath. The frame\, boughs and ribbon will be provided. You may want to bring a pair of gardening gloves. The boughs can be a little sappy. \nCost: $25 for a 18″ wreath and $30 for a 24″ wreath. \nSpace is limited. Register by calling Julia at 902-836-4613 \nShare this:\n				Print (Opens in new window)\n				Print\n			Share on Tumblr\n				Share on Reddit (Opens in new window)\n				Reddit\n			\n				Email a link to a friend (Opens in new window)\n				Email\n			PostLike this:Like Loading...
URL:https://www.homemakingjewels.com/event/traditional-christmas-wreath-workshop-2/
LOCATION:Homemaking Jewels Studio\, 493 ROUTE 103\, KENSINGTON\, PE\, C0B 1M0\, Canada
CATEGORIES:Christmas
ATTACH;FMTTYPE=image/jpeg:https://www.homemakingjewels.com/wp-content/uploads/2017/12/Wreath-and-gingerbread-009.jpg
ORGANIZER;CN="Julia Stewart":MAILTO:juliajane75@gmail.com
END:VEVENT
BEGIN:VEVENT
DTSTART;TZID=America/Halifax:20181126T183000
DTEND;TZID=America/Halifax:20181126T203000
DTSTAMP:20260423T151915
CREATED:20181108T184631Z
LAST-MODIFIED:20181108T184631Z
UID:1329-1543257000-1543264200@www.homemakingjewels.com
SUMMARY:Traditional Christmas Wreath Workshop
DESCRIPTION:Add a sense of tradition and Christmas welcome to your home with a handmade Christmas wreath. \nAt this workshop Julia will show you how to make a traditional Christmas wreath while you enjoy hot apple cider and cookies. Then you will get to make your own wreath. The frame\, boughs and ribbon will be provided. You may want to bring a pair of gardening gloves. The boughs can be a little sappy. \nCost: $25 for a 18″ wreath and $30 for a 24″ wreath. \nSpace is limited. Register by calling Julia at 902-836-4613 \n  \n  \nShare this:\n				Print (Opens in new window)\n				Print\n			Share on Tumblr\n				Share on Reddit (Opens in new window)\n				Reddit\n			\n				Email a link to a friend (Opens in new window)\n				Email\n			PostLike this:Like Loading...
URL:https://www.homemakingjewels.com/event/traditional-christmas-wreath-workshop/
LOCATION:Homemaking Jewels Studio\, 493 ROUTE 103\, KENSINGTON\, PE\, C0B 1M0\, Canada
CATEGORIES:Christmas
ATTACH;FMTTYPE=image/jpeg:https://www.homemakingjewels.com/wp-content/uploads/2017/12/Wreath-and-gingerbread-009.jpg
END:VEVENT
END:VCALENDAR